BEGIN:VCALENDAR
VERSION:2.0
PRODID:Events Booking
BEGIN:VEVENT
UID:69e9fcfda3c6c
SUMMARY:Achtsamkeit im echten Leben
DESCRIPTION:
LOCATION:Sechshauser Str. 76\, Wien\, 1150\, Österreich
DTSTART:20260506T080000Z
DTEND:20260506T090000Z
DTSTAMP:20260422T081802Z
ORGANIZER;CN=nachbarschaftszentren.at:MAILTO:homepage@nachbarschaftszentren
 .at
GEO:48.187154;16.328388
X-APPLE-STRUCTURED-LOCATION;VALUE=URI;X-ADDRESS=Sechshauser Str. 76\, Wien\
 , 1150\, Österreich;X-APPLE-RADIUS=72;X-TITLE=Nachbarschaftszentrum 15:48
 .187154;16.328388
END:VEVENT
END:VCALENDAR