BEGIN:VCALENDAR
VERSION:2.0
PRODID:Events Booking
BEGIN:VEVENT
UID:69e6b5e1c844c
SUMMARY:Deutsch Lerngruppe A1
DESCRIPTION:
LOCATION:Schottenfeldgasse 29/2\, Wien\, 1070\, Österreich
DTSTART:20260422T130000Z
DTEND:20260422T143000Z
DTSTAMP:20231219T102041Z
ORGANIZER;CN=nachbarschaftszentren.at:MAILTO:homepage@nachbarschaftszentren
 .at
GEO:48.199769;16.342816
X-APPLE-STRUCTURED-LOCATION;VALUE=URI;X-ADDRESS=Schottenfeldgasse 29/2\, Wi
 en\, 1070\, Österreich;X-APPLE-RADIUS=72;X-TITLE=Nachbarschaftszentrum 07
 :48.199769;16.342816
END:VEVENT
END:VCALENDAR