BEGIN:VCALENDAR
VERSION:2.0
PRODID:Events Booking
BEGIN:VEVENT
UID:69e6b6214fd51
SUMMARY:Englisch für Fortgeschrittene
DESCRIPTION:
LOCATION:Bürgerspitalgasse 4-6\, Wien\, 1060\, Österreich
DTSTART:20260423T080000Z
DTEND:20260423T090000Z
DTSTAMP:20251119T140223Z
ORGANIZER;CN=nachbarschaftszentren.at:MAILTO:homepage@nachbarschaftszentren
 .at
GEO:48.192438;16.34277
X-APPLE-STRUCTURED-LOCATION;VALUE=URI;X-ADDRESS=Bürgerspitalgasse 4-6\, Wi
 en\, 1060\, Österreich;X-APPLE-RADIUS=72;X-TITLE=Nachbarschaftszentrum 06
 :48.192438;16.34277
END:VEVENT
END:VCALENDAR