BEGIN:VCALENDAR
VERSION:2.0
PRODID:Events Booking
BEGIN:VEVENT
UID:69ebf0e8d731b
SUMMARY:Nachbarschaftscafé
DESCRIPTION:
LOCATION:Hernalser Hauptstraße 53\, Wien\, 1170\, Österreich
DTSTART:20261029T140000Z
DTEND:20261029T153000Z
DTSTAMP:20240131T083704Z
ORGANIZER;CN=nachbarschaftszentren.at:MAILTO:homepage@nachbarschaftszentren
 .at
GEO:48.217467;16.334558
X-APPLE-STRUCTURED-LOCATION;VALUE=URI;X-ADDRESS=Hernalser Hauptstraße 53\,
  Wien\, 1170\, Österreich;X-APPLE-RADIUS=72;X-TITLE=Nachbarschaftszentrum
  17:48.217467;16.334558
END:VEVENT
END:VCALENDAR