BEGIN:VCALENDAR
VERSION:2.0
PRODID:Events Booking
BEGIN:VEVENT
UID:69e91100f35b7
SUMMARY:Deutsch für Ukrainer*innen A2  
DESCRIPTION:
LOCATION:Hernalser Hauptstraße 53\, Wien\, 1170\, Österreich
DTSTART:20260525T150000Z
DTEND:20260525T170000Z
DTSTAMP:20250625T080315Z
ORGANIZER;CN=nachbarschaftszentren.at:MAILTO:homepage@nachbarschaftszentren
 .at
GEO:48.217467;16.334558
X-APPLE-STRUCTURED-LOCATION;VALUE=URI;X-ADDRESS=Hernalser Hauptstraße 53\,
  Wien\, 1170\, Österreich;X-APPLE-RADIUS=72;X-TITLE=Nachbarschaftszentrum
  17:48.217467;16.334558
END:VEVENT
END:VCALENDAR