BEGIN:VCALENDAR
VERSION:2.0
PRODID:Events Booking
BEGIN:VEVENT
UID:69ec18a276b3b
SUMMARY:Nachbarschaftstag 2026 - \"Taktvoll miteinander\" 
DESCRIPTION:
LOCATION:Sechshauser Str. 76\, Wien\, 1150\, Österreich
DTSTART:20260529T081500Z
DTEND:20260529T100000Z
DTSTAMP:20250402T171532Z
ORGANIZER;CN=nachbarschaftszentren.at:MAILTO:homepage@nachbarschaftszentren
 .at
GEO:48.187154;16.328388
X-APPLE-STRUCTURED-LOCATION;VALUE=URI;X-ADDRESS=Sechshauser Str. 76\, Wien\
 , 1150\, Österreich;X-APPLE-RADIUS=72;X-TITLE=Nachbarschaftszentrum 15:48
 .187154;16.328388
END:VEVENT
END:VCALENDAR