BEGIN:VCALENDAR
VERSION:2.0
PRODID:Events Booking
BEGIN:VEVENT
UID:69e75cb891258
SUMMARY:Regenbogen-Café       
DESCRIPTION:
LOCATION:Vorgartenstraße 145-157\, Wien\, 1020\, Österreich
DTSTART:20251103T160000Z
DTEND:20251103T173000Z
DTSTAMP:20250809T183040Z
ORGANIZER;CN=nachbarschaftszentren.at:MAILTO:homepage@nachbarschaftszentren
 .at
GEO:48.226621;16.399235
X-APPLE-STRUCTURED-LOCATION;VALUE=URI;X-ADDRESS=Vorgartenstraße 145-157\, 
 Wien\, 1020\, Österreich;X-APPLE-RADIUS=72;X-TITLE=Nachbarschaftszentrum 
 02:48.226621;16.399235
END:VEVENT
END:VCALENDAR