BEGIN:VCALENDAR
VERSION:2.0
PRODID:Events Booking
BEGIN:VEVENT
UID:69e9d7cc6b572
SUMMARY:Wir sind jetzt online und sicher!   
DESCRIPTION:
LOCATION:Rennbahnweg 27/3/R1/EG\, Wien\, 1220\, Österreich
DTSTART:20250424T110000Z
DTEND:20250424T140000Z
DTSTAMP:20240711T043718Z
ORGANIZER;CN=nachbarschaftszentren.at:MAILTO:homepage@nachbarschaftszentren
 .at
GEO:48.25787;16.450805
X-APPLE-STRUCTURED-LOCATION;VALUE=URI;X-ADDRESS=Rennbahnweg 27/3/R1/EG\, Wi
 en\, 1220\, Österreich;X-APPLE-RADIUS=72;X-TITLE=Nachbarschaftszentrum 22
 :48.25787;16.450805
END:VEVENT
END:VCALENDAR