BEGIN:VCALENDAR
VERSION:2.0
PRODID:Events Booking
BEGIN:VEVENT
UID:69e5dbfc6e9f4
SUMMARY:Deutsch für Fortgeschrittene BUS
DESCRIPTION:
LOCATION:Vorgartenstraße 145-157\, Wien\, 1020\, Österreich
DTSTART:20241031T100000Z
DTEND:20241031T113000Z
DTSTAMP:20240426T075148Z
ORGANIZER;CN=nachbarschaftszentren.at:MAILTO:homepage@nachbarschaftszentren
 .at
GEO:48.226621;16.399235
X-APPLE-STRUCTURED-LOCATION;VALUE=URI;X-ADDRESS=Vorgartenstraße 145-157\, 
 Wien\, 1020\, Österreich;X-APPLE-RADIUS=72;X-TITLE=Nachbarschaftszentrum 
 02:48.226621;16.399235
END:VEVENT
END:VCALENDAR